BEGIN:VCALENDAR
VERSION:2.0
PRODID:-//Risby Park Fishing Ponds - ECPv6.15.20//NONSGML v1.0//EN
CALSCALE:GREGORIAN
METHOD:PUBLISH
X-WR-CALNAME:Risby Park Fishing Ponds
X-ORIGINAL-URL:https://risbyparkfishingponds.co.uk
X-WR-CALDESC:Events for Risby Park Fishing Ponds
REFRESH-INTERVAL;VALUE=DURATION:PT1H
X-Robots-Tag:noindex
X-PUBLISHED-TTL:PT1H
BEGIN:VTIMEZONE
TZID:UTC
BEGIN:STANDARD
TZOFFSETFROM:+0000
TZOFFSETTO:+0000
TZNAME:UTC
DTSTART:20250101T000000
END:STANDARD
END:VTIMEZONE
BEGIN:VEVENT
DTSTART;TZID=UTC:20260425T080000
DTEND;TZID=UTC:20260425T170000
DTSTAMP:20260425T140702
CREATED:20260319T201241Z
LAST-MODIFIED:20260408T112112Z
UID:10000686-1777104000-1777136400@risbyparkfishingponds.co.uk
SUMMARY:Risby Open Matches Folly Lake (Full Pond) apart from April 11th & 25th (pegs 5-36)
DESCRIPTION:Risby Open Matches Folly Lake (full pond) \nCall Robbo 07834 275278 to book on.
URL:https://risbyparkfishingponds.co.uk/events/risby-open-matches-folly-lake-8-34-2-2/2026-04-25/
LOCATION:Folly Lake
CATEGORIES:Match Calendar
END:VEVENT
END:VCALENDAR